BEGIN:VCALENDAR
VERSION:2.0
PRODID:-//Better at Last - ECPv6.15.20//NONSGML v1.0//EN
CALSCALE:GREGORIAN
METHOD:PUBLISH
X-WR-CALNAME:Better at Last
X-ORIGINAL-URL:https://betteratlast.org
X-WR-CALDESC:Events for Better at Last
REFRESH-INTERVAL;VALUE=DURATION:PT1H
X-Robots-Tag:noindex
X-PUBLISHED-TTL:PT1H
BEGIN:VTIMEZONE
TZID:America/Merida
BEGIN:STANDARD
TZOFFSETFROM:-0600
TZOFFSETTO:-0600
TZNAME:CST
DTSTART:20240101T000000
END:STANDARD
END:VTIMEZONE
BEGIN:VEVENT
DTSTART;TZID=America/Merida:20251219T090000
DTEND;TZID=America/Merida:20251219T100000
DTSTAMP:20260423T021907
CREATED:20250617T040329Z
LAST-MODIFIED:20251210T170238Z
UID:30846-1766134800-1766138400@betteratlast.org
SUMMARY:Waco Family Medicine - Monthly Seminar - 3rd Friday of the month at 9:00
DESCRIPTION:Join us for BETTER BALANCE! \nLearn what truly supports your balance and how you can keep it strong at any age. We’ll break down the four major systems of balance\, practice simple exercises you can do at home\, and explore practical strategies to stay steady\, confident\, and independent in daily life. Whether you want to prevent falls\, improve stability\, or just feel more in control of your movements\, this session will give you tools you can start using right away.
URL:https://betteratlast.org/event/waco-family-medicine-monthly-seminar-3rd-friday-of-the-month-at-900/
LOCATION:Waco Family Medicine\, 1600 Providence Dr.\, Waco\, TX\, 76707
ORGANIZER;CN="Better at Last":MAILTO:Welcome@betteratlast.org
END:VEVENT
END:VCALENDAR